BEGIN:VCALENDAR
VERSION:2.0
PRODID:-//swoogo.com//NONSGML kigkonsult.se iCalcreator 2.41.90//
CALSCALE:GREGORIAN
UID:31343932-3831-4634-b132-383263313131
BEGIN:VEVENT
UID:ba8545c1ac0039a6c383d70c806c8c89398f15f4@swoogo.com
DTSTAMP:20260419T170438Z
DESCRIPTION:RDH Under One Roof is a three-day action packed event offering 
 quality dental hygiene education. Dental hygienists learn from leading spe
 akers in the industry during the educational courses. All attendees are al
 so invited to visit the exhibit floor to view the newest dental hygiene pr
 oducts and dental equipment from the exhibitors.
DTSTART:20220721T120000Z
DTEND:20220723T210000Z
LAST-MODIFIED:20260419T170438Z
LOCATION:Gaylord Palms Resort & Convention Center\, 6000 West Osceola Parkw
 ay\, Kissimmee\, FL 34746\, United States
SEQUENCE:0
STATUS:CONFIRMED
SUMMARY:RDH Under One Roof 2022
TRANSP:OPAQUE
X-ALT-DESC;FMTTYPE=text/html:<div>RDH Under One Roof is a three-day action 
 packed event offering quality dental hygiene education. Dental hygienists 
 learn from leading speakers in the industry during the educational courses
 . All attendees are also invited to visit the exhibit floor to view the ne
 west dental hygiene products and dental equipment from the exhibitors.</di
 v>
BEGIN:VALARM
UID:32363034-6562-4335-a464-353163313835
ACTION:DISPLAY
DESCRIPTION:RDH Under One Roof is a three-day action packed event offering 
 quality dental hygiene education. Dental hygienists learn from leading spe
 akers in the industry during the educational courses. All attendees are al
 so invited to visit the exhibit floor to view the newest dental hygiene pr
 oducts and dental equipment from the exhibitors.
TRIGGER:-PT15M
END:VALARM
END:VEVENT
END:VCALENDAR
